BEGIN:VCALENDAR
VERSION:2.0
PRODID:-//jEvents 2.0 for Joomla//EN
CALSCALE:GREGORIAN
METHOD:PUBLISH
BEGIN:VTIMEZONE
TZID:Europe/Berlin
BEGIN:STANDARD
DTSTART:20230206T000000
RDATE:20230326T030000
TZOFFSETFROM:+0200
TZOFFSETTO:+0100
TZNAME:Europe/Berlin CET
END:STANDARD
BEGIN:STANDARD
DTSTART:20231029T020000
RDATE:20240331T030000
TZOFFSETFROM:+0200
TZOFFSETTO:+0100
TZNAME:Europe/Berlin CET
END:STANDARD
BEGIN:STANDARD
DTSTART:20241027T020000
RDATE:20250330T030000
TZOFFSETFROM:+0200
TZOFFSETTO:+0100
TZNAME:Europe/Berlin CET
END:STANDARD
BEGIN:STANDARD
DTSTART:20251026T020000
RDATE:20260329T030000
TZOFFSETFROM:+0200
TZOFFSETTO:+0100
TZNAME:Europe/Berlin CET
END:STANDARD
BEGIN:STANDARD
DTSTART:20261025T020000
RDATE:20270328T030000
TZOFFSETFROM:+0200
TZOFFSETTO:+0100
TZNAME:Europe/Berlin CET
END:STANDARD
BEGIN:STANDARD
DTSTART:20271031T020000
RDATE:20280326T030000
TZOFFSETFROM:+0200
TZOFFSETTO:+0100
TZNAME:Europe/Berlin CET
END:STANDARD
BEGIN:DAYLIGHT
DTSTART:20230326T030000
RDATE:20231029T020000
TZOFFSETFROM:+0100
TZOFFSETTO:+0200
TZNAME:Europe/Berlin CEST
END:DAYLIGHT
BEGIN:DAYLIGHT
DTSTART:20240331T030000
RDATE:20241027T020000
TZOFFSETFROM:+0100
TZOFFSETTO:+0200
TZNAME:Europe/Berlin CEST
END:DAYLIGHT
BEGIN:DAYLIGHT
DTSTART:20250330T030000
RDATE:20251026T020000
TZOFFSETFROM:+0100
TZOFFSETTO:+0200
TZNAME:Europe/Berlin CEST
END:DAYLIGHT
BEGIN:DAYLIGHT
DTSTART:20260329T030000
RDATE:20261025T020000
TZOFFSETFROM:+0100
TZOFFSETTO:+0200
TZNAME:Europe/Berlin CEST
END:DAYLIGHT
BEGIN:DAYLIGHT
DTSTART:20270328T030000
RDATE:20271031T020000
TZOFFSETFROM:+0100
TZOFFSETTO:+0200
TZNAME:Europe/Berlin CEST
END:DAYLIGHT
END:VTIMEZONE
BEGIN:VEVENT
UID:32c314da14017ad4df6601d8d6d353f0
CATEGORIES:Veranstaltung
CREATED:20231011T123707
SUMMARY:1. Runde Matheolympiade Jg5-9
URL;VALUE=URI:https://heinz-sielmann-schule.de/j4/index.php/service/termine-2/icalrepeat.
 detail/2024/02/07/6847/-/1-runde-matheolympiade-jg5-9.html?tmpl=component
DESCRIPTION: This event was imported from: https://heinz-sielmann-schule.de/j3/index.ph
 p/component/jevents/icalrepeat.detail/2024/02/07/4760/-/1-runde-matheolympi
 ade-jg5-9.html?Itemid=1 Dieser Event wurde importiert von: https://heinz-si
 elmann-schule.de/j4/index.php/service/termine-2/icalrepeat.detail/2024/02/0
 7/6847/-/1-runde-matheolympiade-jg5-9.html?tmpl=component
X-ALT-DESC;FMTTYPE=text/html: This event was imported from: <a href="https://heinz-sielmann-schule.de/j3
 /index.php/component/jevents/icalrepeat.detail/2024/02/07/4760/-/1-runde-ma
 theolympiade-jg5-9.html?Itemid=1">https://heinz-sielmann-schule.de/j3/index
 .php/component/jevents/icalrepeat.detail/2024/02/07/4760/-/1-runde-matheoly
 mpiade-jg5-9.html?Itemid=1</a> <a href="https://heinz-sielmann-schule.de/j4
 /index.php/service/termine-2/icalrepeat.detail/2024/02/07/6847/-/1-runde-ma
 theolympiade-jg5-9.html?tmpl=component">Dieser Event wurde importiert von: 
 https://heinz-sielmann-schule.de/j4/index.php/service/termine-2/icalrepeat.
 detail/2024/02/07/6847/-/1-runde-matheolympiade-jg5-9.html?tmpl=component</
 a>DTSTAMP:20260422T111208
DTSTART;TZID=Europe/Berlin;VALUE=DATE:20240207
DTEND;TZID=Europe/Berlin;VALUE=DATE:20240208
SEQUENCE:0
TRANSP:OPAQUE
END:VEVENT
END:VCALENDAR