BEGIN:VCALENDAR
VERSION:2.0
PRODID:-//jEvents 2.0 for Joomla//EN
CALSCALE:GREGORIAN
METHOD:PUBLISH
BEGIN:VTIMEZONE
TZID:Europe/Berlin
BEGIN:STANDARD
DTSTART:20231029T020000
RDATE:20240331T030000
TZOFFSETFROM:+0200
TZOFFSETTO:+0100
TZNAME:Europe/Berlin CET
END:STANDARD
BEGIN:STANDARD
DTSTART:20241027T020000
RDATE:20250330T030000
TZOFFSETFROM:+0200
TZOFFSETTO:+0100
TZNAME:Europe/Berlin CET
END:STANDARD
BEGIN:STANDARD
DTSTART:20251026T020000
RDATE:20260329T030000
TZOFFSETFROM:+0200
TZOFFSETTO:+0100
TZNAME:Europe/Berlin CET
END:STANDARD
BEGIN:STANDARD
DTSTART:20261025T020000
RDATE:20270328T030000
TZOFFSETFROM:+0200
TZOFFSETTO:+0100
TZNAME:Europe/Berlin CET
END:STANDARD
BEGIN:STANDARD
DTSTART:20271031T020000
RDATE:20280326T030000
TZOFFSETFROM:+0200
TZOFFSETTO:+0100
TZNAME:Europe/Berlin CET
END:STANDARD
BEGIN:DAYLIGHT
DTSTART:20230525T083000
RDATE:20231029T020000
TZOFFSETFROM:+0100
TZOFFSETTO:+0200
TZNAME:Europe/Berlin CEST
END:DAYLIGHT
BEGIN:DAYLIGHT
DTSTART:20240331T030000
RDATE:20241027T020000
TZOFFSETFROM:+0100
TZOFFSETTO:+0200
TZNAME:Europe/Berlin CEST
END:DAYLIGHT
BEGIN:DAYLIGHT
DTSTART:20250330T030000
RDATE:20251026T020000
TZOFFSETFROM:+0100
TZOFFSETTO:+0200
TZNAME:Europe/Berlin CEST
END:DAYLIGHT
BEGIN:DAYLIGHT
DTSTART:20260329T030000
RDATE:20261025T020000
TZOFFSETFROM:+0100
TZOFFSETTO:+0200
TZNAME:Europe/Berlin CEST
END:DAYLIGHT
BEGIN:DAYLIGHT
DTSTART:20270328T030000
RDATE:20271031T020000
TZOFFSETFROM:+0100
TZOFFSETTO:+0200
TZNAME:Europe/Berlin CEST
END:DAYLIGHT
END:VTIMEZONE
BEGIN:VEVENT
UID:18aad3d85cb24b80c173d6ac3502c5fe
CATEGORIES:Veranstaltung
CREATED:20240323T065934
SUMMARY:Marmeladenverkauf auf dem Wochenmarkt
URL;VALUE=URI:https://heinz-sielmann-schule.de/j4/index.php/service/termine-2/icalrepeat.
 detail/2024/05/25/7092/-/marmeladenverkauf-auf-dem-wochenmarkt.html?tmpl=co
 mponent
DESCRIPTION: <a href="https://heinz-sielmann-schule.de/j4/index.php/service/termine-2/i
 calrepeat.detail/2024/05/25/7092/-/marmeladenverkauf-auf-dem-wochenmarkt.ht
 ml?tmpl=component">Dieser Event wurde importiert von: https://heinz-sielman
 n-schule.de/j4/index.php/service/termine-2/icalrepeat.detail/2024/05/25/709
 2/-/marmeladenverkauf-auf-dem-wochenmarkt.html?tmpl=component</a>DTSTAMP:20260421T085229
DTSTART;TZID=Europe/Berlin:20240525T083000
DTEND;TZID=Europe/Berlin:20240525T123000
SEQUENCE:0
TRANSP:OPAQUE
END:VEVENT
END:VCALENDAR