BEGIN:VCALENDAR
VERSION:2.0
PRODID:-//jEvents 2.0 for Joomla//EN
CALSCALE:GREGORIAN
METHOD:PUBLISH
BEGIN:VTIMEZONE
TZID:Europe/Berlin
BEGIN:STANDARD
DTSTART:20240220T000000
RDATE:20240331T030000
TZOFFSETFROM:+0200
TZOFFSETTO:+0100
TZNAME:Europe/Berlin CET
END:STANDARD
BEGIN:STANDARD
DTSTART:20241027T020000
RDATE:20250330T030000
TZOFFSETFROM:+0200
TZOFFSETTO:+0100
TZNAME:Europe/Berlin CET
END:STANDARD
BEGIN:STANDARD
DTSTART:20251026T020000
RDATE:20260329T030000
TZOFFSETFROM:+0200
TZOFFSETTO:+0100
TZNAME:Europe/Berlin CET
END:STANDARD
BEGIN:STANDARD
DTSTART:20261025T020000
RDATE:20270328T030000
TZOFFSETFROM:+0200
TZOFFSETTO:+0100
TZNAME:Europe/Berlin CET
END:STANDARD
BEGIN:STANDARD
DTSTART:20271031T020000
RDATE:20280326T030000
TZOFFSETFROM:+0200
TZOFFSETTO:+0100
TZNAME:Europe/Berlin CET
END:STANDARD
BEGIN:DAYLIGHT
DTSTART:20240331T030000
RDATE:20241027T020000
TZOFFSETFROM:+0100
TZOFFSETTO:+0200
TZNAME:Europe/Berlin CEST
END:DAYLIGHT
BEGIN:DAYLIGHT
DTSTART:20250330T030000
RDATE:20251026T020000
TZOFFSETFROM:+0100
TZOFFSETTO:+0200
TZNAME:Europe/Berlin CEST
END:DAYLIGHT
BEGIN:DAYLIGHT
DTSTART:20260329T030000
RDATE:20261025T020000
TZOFFSETFROM:+0100
TZOFFSETTO:+0200
TZNAME:Europe/Berlin CEST
END:DAYLIGHT
BEGIN:DAYLIGHT
DTSTART:20270328T030000
RDATE:20271031T020000
TZOFFSETFROM:+0100
TZOFFSETTO:+0200
TZNAME:Europe/Berlin CEST
END:DAYLIGHT
END:VTIMEZONE
BEGIN:VEVENT
UID:44ecdf46576989f544163b272a6f5f38
CATEGORIES:Veranstaltung
CREATED:20250113T114745
SUMMARY:Basketball-Bezirksmeisterschaften Jg 8,9,10
URL;VALUE=URI:https://heinz-sielmann-schule.de/j4/index.php/service/termine-2/icalrepeat.
 detail/2025/02/20/7443/-/basketball-bezirksmeisterschaften-jg-8-9-10.html?t
 mpl=component
DESCRIPTION: Dieser Event wurde importiert von: https://heinz-sielmann-schule.de/j4/ind
 ex.php/service/termine-2/icalrepeat.detail/2025/02/20/7443/-/basketball-bez
 irksmeisterschaften-jg-8-9-10.html?tmpl=component
X-ALT-DESC;FMTTYPE=text/html: <a href="https://heinz-sielmann-schule.de/j4/index.php/service/termine-2/i
 calrepeat.detail/2025/02/20/7443/-/basketball-bezirksmeisterschaften-jg-8-9
 -10.html?tmpl=component">Dieser Event wurde importiert von: https://heinz-s
 ielmann-schule.de/j4/index.php/service/termine-2/icalrepeat.detail/2025/02/
 20/7443/-/basketball-bezirksmeisterschaften-jg-8-9-10.html?tmpl=component</
 a>DTSTAMP:20260422T122131
DTSTART;TZID=Europe/Berlin;VALUE=DATE:20250220
DTEND;TZID=Europe/Berlin;VALUE=DATE:20250221
SEQUENCE:0
TRANSP:OPAQUE
END:VEVENT
END:VCALENDAR