BEGIN:VCALENDAR
VERSION:2.0
PRODID:-//jEvents 2.0 for Joomla//EN
CALSCALE:GREGORIAN
METHOD:PUBLISH
BEGIN:VTIMEZONE
TZID:Europe/Berlin
BEGIN:STANDARD
DTSTART:20250209T000000
RDATE:20250330T030000
TZOFFSETFROM:+0200
TZOFFSETTO:+0100
TZNAME:Europe/Berlin CET
END:STANDARD
BEGIN:STANDARD
DTSTART:20251026T020000
RDATE:20260329T030000
TZOFFSETFROM:+0200
TZOFFSETTO:+0100
TZNAME:Europe/Berlin CET
END:STANDARD
BEGIN:STANDARD
DTSTART:20261025T020000
RDATE:20270328T030000
TZOFFSETFROM:+0200
TZOFFSETTO:+0100
TZNAME:Europe/Berlin CET
END:STANDARD
BEGIN:STANDARD
DTSTART:20271031T020000
RDATE:20280326T030000
TZOFFSETFROM:+0200
TZOFFSETTO:+0100
TZNAME:Europe/Berlin CET
END:STANDARD
BEGIN:DAYLIGHT
DTSTART:20250330T030000
RDATE:20251026T020000
TZOFFSETFROM:+0100
TZOFFSETTO:+0200
TZNAME:Europe/Berlin CEST
END:DAYLIGHT
BEGIN:DAYLIGHT
DTSTART:20260329T030000
RDATE:20261025T020000
TZOFFSETFROM:+0100
TZOFFSETTO:+0200
TZNAME:Europe/Berlin CEST
END:DAYLIGHT
BEGIN:DAYLIGHT
DTSTART:20270328T030000
RDATE:20271031T020000
TZOFFSETFROM:+0100
TZOFFSETTO:+0200
TZNAME:Europe/Berlin CEST
END:DAYLIGHT
END:VTIMEZONE
BEGIN:VEVENT
UID:4f902a95db87654a7afedd962066bbc3
CATEGORIES:Veranstaltung
CREATED:20250806T111538
SUMMARY:Matheolympiade (Jg 5-9) 1. Runde
URL;VALUE=URI:https://heinz-sielmann-schule.de/j4/index.php/service/termine-2/icalrepeat.
 detail/2026/02/10/7658/-/matheolympiade-jg-5-9-1-runde.html?tmpl=component
DESCRIPTION: Dieser Event wurde importiert von: https://heinz-sielmann-schule.de/j4/ind
 ex.php/service/termine-2/icalrepeat.detail/2026/02/10/7658/-/matheolympiade
 -jg-5-9-1-runde.html?tmpl=component
X-ALT-DESC;FMTTYPE=text/html: <a href="https://heinz-sielmann-schule.de/j4/index.php/service/termine-2/i
 calrepeat.detail/2026/02/10/7658/-/matheolympiade-jg-5-9-1-runde.html?tmpl=
 component">Dieser Event wurde importiert von: https://heinz-sielmann-schule
 .de/j4/index.php/service/termine-2/icalrepeat.detail/2026/02/10/7658/-/math
 eolympiade-jg-5-9-1-runde.html?tmpl=component</a>DTSTAMP:20260420T085109
DTSTART;TZID=Europe/Berlin;VALUE=DATE:20260210
DTEND;TZID=Europe/Berlin;VALUE=DATE:20260211
SEQUENCE:0
TRANSP:OPAQUE
END:VEVENT
END:VCALENDAR