BEGIN:VCALENDAR
VERSION:2.0
PRODID:-//jEvents 2.0 for Joomla//EN
CALSCALE:GREGORIAN
METHOD:PUBLISH
BEGIN:VTIMEZONE
TZID:Europe/Berlin
BEGIN:STANDARD
DTSTART:20250223T000000
RDATE:20250330T030000
TZOFFSETFROM:+0200
TZOFFSETTO:+0100
TZNAME:Europe/Berlin CET
END:STANDARD
BEGIN:STANDARD
DTSTART:20251026T020000
RDATE:20260329T030000
TZOFFSETFROM:+0200
TZOFFSETTO:+0100
TZNAME:Europe/Berlin CET
END:STANDARD
BEGIN:STANDARD
DTSTART:20261025T020000
RDATE:20270328T030000
TZOFFSETFROM:+0200
TZOFFSETTO:+0100
TZNAME:Europe/Berlin CET
END:STANDARD
BEGIN:STANDARD
DTSTART:20271031T020000
RDATE:20280326T030000
TZOFFSETFROM:+0200
TZOFFSETTO:+0100
TZNAME:Europe/Berlin CET
END:STANDARD
BEGIN:DAYLIGHT
DTSTART:20250330T030000
RDATE:20251026T020000
TZOFFSETFROM:+0100
TZOFFSETTO:+0200
TZNAME:Europe/Berlin CEST
END:DAYLIGHT
BEGIN:DAYLIGHT
DTSTART:20260329T030000
RDATE:20261025T020000
TZOFFSETFROM:+0100
TZOFFSETTO:+0200
TZNAME:Europe/Berlin CEST
END:DAYLIGHT
BEGIN:DAYLIGHT
DTSTART:20270328T030000
RDATE:20271031T020000
TZOFFSETFROM:+0100
TZOFFSETTO:+0200
TZNAME:Europe/Berlin CEST
END:DAYLIGHT
END:VTIMEZONE
BEGIN:VEVENT
UID:b8d18882b25af1cde94ee2e5d26ade17
CATEGORIES:Veranstaltung
CREATED:20250806T111615
SUMMARY:Matheolympiade (Jg 5-9) 2. Runde
URL;VALUE=URI:https://heinz-sielmann-schule.de/j4/index.php/service/termine-2/icalrepeat.
 detail/2026/02/24/7659/-/matheolympiade-jg-5-9-2-runde.html?tmpl=component
DESCRIPTION: Dieser Event wurde importiert von: https://heinz-sielmann-schule.de/j4/ind
 ex.php/service/termine-2/icalrepeat.detail/2026/02/24/7659/-/matheolympiade
 -jg-5-9-2-runde.html?tmpl=component (https://heinz-sielmann-schule.de/j4/in
 dex.php/service/termine-2/icalrepeat.detail/2026/02/24/7659/-/matheolympiad
 e-jg-5-9-2-runde.html?tmpl=component)
X-ALT-DESC;FMTTYPE=text/html: <a href="https://heinz-sielmann-schule.de/j4/index.php/service/termine-2/i
 calrepeat.detail/2026/02/24/7659/-/matheolympiade-jg-5-9-2-runde.html?tmpl=
 component">Dieser Event wurde importiert von: https://heinz-sielmann-schule
 .de/j4/index.php/service/termine-2/icalrepeat.detail/2026/02/24/7659/-/math
 eolympiade-jg-5-9-2-runde.html?tmpl=component</a>DTSTAMP:20260421T085038
DTSTART;TZID=Europe/Berlin;VALUE=DATE:20260224
DTEND;TZID=Europe/Berlin;VALUE=DATE:20260225
SEQUENCE:0
TRANSP:OPAQUE
END:VEVENT
END:VCALENDAR