BEGIN:VCALENDAR
VERSION:2.0
PRODID:-//jEvents 2.0 for Joomla//EN
CALSCALE:GREGORIAN
METHOD:PUBLISH
BEGIN:VTIMEZONE
TZID:Europe/Berlin
BEGIN:STANDARD
DTSTART:20251026T020000
RDATE:20260329T030000
TZOFFSETFROM:+0200
TZOFFSETTO:+0100
TZNAME:Europe/Berlin CET
END:STANDARD
BEGIN:STANDARD
DTSTART:20261025T020000
RDATE:20270328T030000
TZOFFSETFROM:+0200
TZOFFSETTO:+0100
TZNAME:Europe/Berlin CET
END:STANDARD
BEGIN:STANDARD
DTSTART:20271031T020000
RDATE:20280326T030000
TZOFFSETFROM:+0200
TZOFFSETTO:+0100
TZNAME:Europe/Berlin CET
END:STANDARD
BEGIN:DAYLIGHT
DTSTART:20250520T000000
RDATE:20251026T020000
TZOFFSETFROM:+0100
TZOFFSETTO:+0200
TZNAME:Europe/Berlin CEST
END:DAYLIGHT
BEGIN:DAYLIGHT
DTSTART:20260329T030000
RDATE:20261025T020000
TZOFFSETFROM:+0100
TZOFFSETTO:+0200
TZNAME:Europe/Berlin CEST
END:DAYLIGHT
BEGIN:DAYLIGHT
DTSTART:20270328T030000
RDATE:20271031T020000
TZOFFSETFROM:+0100
TZOFFSETTO:+0200
TZNAME:Europe/Berlin CEST
END:DAYLIGHT
END:VTIMEZONE
BEGIN:VEVENT
UID:4bc82b52d3c751be86bd2ac59e134b63
CATEGORIES:Veranstaltung
CREATED:20260108T083437
SUMMARY:Lesung von Felicitas Fuchs: „Rosen im Asphalt“
URL;VALUE=URI:https://heinz-sielmann-schule.de/j4/index.php/service/termine-2/icalrepeat.
 detail/2026/05/21/7925/-/lesung-von-felicitas-fuchs-rosen-im-asphalt.html?t
 mpl=component
DESCRIPTION: Dieser Event wurde importiert von: https://heinz-sielmann-schule.de/j4/ind
 ex.php/service/termine-2/icalrepeat.detail/2026/05/21/7925/-/lesung-von-fel
 icitas-fuchs-rosen-im-asphalt.html?tmpl=component
X-ALT-DESC;FMTTYPE=text/html: <a href="https://heinz-sielmann-schule.de/j4/index.php/service/termine-2/i
 calrepeat.detail/2026/05/21/7925/-/lesung-von-felicitas-fuchs-rosen-im-asph
 alt.html?tmpl=component">Dieser Event wurde importiert von: https://heinz-s
 ielmann-schule.de/j4/index.php/service/termine-2/icalrepeat.detail/2026/05/
 21/7925/-/lesung-von-felicitas-fuchs-rosen-im-asphalt.html?tmpl=component</
 a>DTSTAMP:20260422T054509
DTSTART;TZID=Europe/Berlin;VALUE=DATE:20260521
DTEND;TZID=Europe/Berlin;VALUE=DATE:20260522
SEQUENCE:0
TRANSP:OPAQUE
END:VEVENT
END:VCALENDAR