BEGIN:VCALENDAR
VERSION:2.0
PRODID:-//jEvents 2.0 for Joomla//EN
CALSCALE:GREGORIAN
METHOD:PUBLISH
BEGIN:VTIMEZONE
TZID:Europe/Berlin
BEGIN:STANDARD
DTSTART:20251026T020000
RDATE:20260329T030000
TZOFFSETFROM:+0200
TZOFFSETTO:+0100
TZNAME:Europe/Berlin CET
END:STANDARD
BEGIN:STANDARD
DTSTART:20261025T020000
RDATE:20270328T030000
TZOFFSETFROM:+0200
TZOFFSETTO:+0100
TZNAME:Europe/Berlin CET
END:STANDARD
BEGIN:STANDARD
DTSTART:20271031T020000
RDATE:20280326T030000
TZOFFSETFROM:+0200
TZOFFSETTO:+0100
TZNAME:Europe/Berlin CET
END:STANDARD
BEGIN:DAYLIGHT
DTSTART:20250609T110000
RDATE:20251026T020000
TZOFFSETFROM:+0100
TZOFFSETTO:+0200
TZNAME:Europe/Berlin CEST
END:DAYLIGHT
BEGIN:DAYLIGHT
DTSTART:20260329T030000
RDATE:20261025T020000
TZOFFSETFROM:+0100
TZOFFSETTO:+0200
TZNAME:Europe/Berlin CEST
END:DAYLIGHT
BEGIN:DAYLIGHT
DTSTART:20270328T030000
RDATE:20271031T020000
TZOFFSETFROM:+0100
TZOFFSETTO:+0200
TZNAME:Europe/Berlin CEST
END:DAYLIGHT
END:VTIMEZONE
BEGIN:VEVENT
UID:91c26c7b5872dc7ef9a4ef8817c5aa18
CATEGORIES:Veranstaltung
CREATED:20260420T194151
SUMMARY:Stolpersteine verlegen, 9d
URL;VALUE=URI:https://heinz-sielmann-schule.de/j4/index.php/service/termine-2/icalrepeat.
 detail/2026/06/10/8060/-/stolpersteine-verlegen-9d.html?tmpl=component
DESCRIPTION:einige SuS der Klasse 9d\n Dieser Event wurde importiert von: https://heinz
 -sielmann-schule.de/j4/index.php/service/termine-2/icalrepeat.detail/2026/0
 6/10/8060/-/stolpersteine-verlegen-9d.html?tmpl=component
X-ALT-DESC;FMTTYPE=text/html:<p>einige SuS der Klasse 9d</p> <a href="https://heinz-sielmann-schule.de/j
 4/index.php/service/termine-2/icalrepeat.detail/2026/06/10/8060/-/stolperst
 eine-verlegen-9d.html?tmpl=component">Dieser Event wurde importiert von: ht
 tps://heinz-sielmann-schule.de/j4/index.php/service/termine-2/icalrepeat.de
 tail/2026/06/10/8060/-/stolpersteine-verlegen-9d.html?tmpl=component</a>DTSTAMP:20260421T071946
DTSTART;TZID=Europe/Berlin:20260610T110000
DTEND;TZID=Europe/Berlin:20260610T150000
SEQUENCE:0
TRANSP:OPAQUE
END:VEVENT
END:VCALENDAR