BEGIN:VCALENDAR
VERSION:2.0
PRODID:-//jEvents 2.0 for Joomla//EN
CALSCALE:GREGORIAN
METHOD:PUBLISH
BEGIN:VTIMEZONE
TZID:Europe/Berlin
BEGIN:STANDARD
DTSTART:20251026T020000
RDATE:20260329T030000
TZOFFSETFROM:+0200
TZOFFSETTO:+0100
TZNAME:Europe/Berlin CET
END:STANDARD
BEGIN:STANDARD
DTSTART:20261025T020000
RDATE:20270328T030000
TZOFFSETFROM:+0200
TZOFFSETTO:+0100
TZNAME:Europe/Berlin CET
END:STANDARD
BEGIN:STANDARD
DTSTART:20271031T020000
RDATE:20280326T030000
TZOFFSETFROM:+0200
TZOFFSETTO:+0100
TZNAME:Europe/Berlin CET
END:STANDARD
BEGIN:DAYLIGHT
DTSTART:20250422T000000
RDATE:20251026T020000
TZOFFSETFROM:+0100
TZOFFSETTO:+0200
TZNAME:Europe/Berlin CEST
END:DAYLIGHT
BEGIN:DAYLIGHT
DTSTART:20260329T030000
RDATE:20261025T020000
TZOFFSETFROM:+0100
TZOFFSETTO:+0200
TZNAME:Europe/Berlin CEST
END:DAYLIGHT
BEGIN:DAYLIGHT
DTSTART:20270328T030000
RDATE:20271031T020000
TZOFFSETFROM:+0100
TZOFFSETTO:+0200
TZNAME:Europe/Berlin CEST
END:DAYLIGHT
END:VTIMEZONE
BEGIN:VEVENT
UID:1b05266bdaf41b91ca8f6ec15b246aaa
CATEGORIES:Projekttag
CREATED:20260421T090021
SUMMARY:Girls- and Boysday
URL;VALUE=URI:https://heinz-sielmann-schule.de/j4/index.php/service/termine-2/icalrepeat.
 detail/2026/04/23/8061/-/girls-and-boysday.html?tmpl=component
DESCRIPTION: <a href="https://heinz-sielmann-schule.de/j4/index.php/service/termine-2/i
 calrepeat.detail/2026/04/23/8061/-/girls-and-boysday.html?tmpl=component">D
 ieser Event wurde importiert von: https://heinz-sielmann-schule.de/j4/index
 .php/service/termine-2/icalrepeat.detail/2026/04/23/8061/-/girls-and-boysda
 y.html?tmpl=component</a>X-EXTRAINFO:Jg. 7 ist außer Haus
DTSTAMP:20260422T035406
DTSTART;TZID=Europe/Berlin;VALUE=DATE:20260423
DTEND;TZID=Europe/Berlin;VALUE=DATE:20260424
SEQUENCE:0
TRANSP:OPAQUE
END:VEVENT
END:VCALENDAR